BEGIN:VCALENDAR
VERSION:2.0
PRODID:spatie/icalendar-generator
DESCRIPTION:Events from LifeWave Events
X-WR-CALDESC:Events from LifeWave Events
REFRESH-INTERVAL;VALUE=DURATION:PT1440M
X-PUBLISHED-TTL:PT1440M
BEGIN:VTIMEZONE
TZID:America/Denver
BEGIN:STANDARD
DTSTART:20251102T020000Z
TZOFFSETFROM:-0600
TZOFFSETTO:-0700
END:STANDARD
BEGIN:DAYLIGHT
DTSTART:20260308T020000Z
TZOFFSETFROM:-0700
TZOFFSETTO:-0600
END:DAYLIGHT
END:VTIMEZONE
BEGIN:VTIMEZONE
TZID:UTC
BEGIN:STANDARD
DTSTART:20250726T165206Z
TZOFFSETFROM:+0000
TZOFFSETTO:+0000
END:STANDARD
END:VTIMEZONE
BEGIN:VEVENT
UID:87-37
DTSTAMP:20260422T165206Z
SUMMARY:LifeWave France Roadshow – March 2026
LOCATION:
ORGANIZER;CN=admin:MAILTO:jbrophy@lifewave.com
DTSTART;TZID=America/Denver;VALUE=DATE:20260305
DTEND;TZID=America/Denver;VALUE=DATE:20260311
X-ALT-DESC;FMTTYPE=TEXT/HTML:Roadshow France 5-10 March Join us for the Lif
 eWave France Roadshow in March 2026 — a special in-person event designed
  for Brand Partners in France. This Roadshow offers focused training\, com
 munity connection\, and practical strategies to help you grow your busines
 s and strengthen your leadership. Whether you’re new to LifeWave or an e
 xperienced Brand Partner\,&amp;hellip\;
CATEGORIES:EMEA
URL;VALUE=URI:https://marketing.lifewave.com/mc-events/lifewave-france-road
 show-march-2026/
METHOD:PUBLISH
END:VEVENT
END:VCALENDAR