BEGIN:VCALENDAR
VERSION:2.0
PRODID:spatie/icalendar-generator
DESCRIPTION:Events from LifeWave Events
X-WR-CALDESC:Events from LifeWave Events
REFRESH-INTERVAL;VALUE=DURATION:PT1440M
X-PUBLISHED-TTL:PT1440M
BEGIN:VTIMEZONE
TZID:America/Denver
BEGIN:STANDARD
DTSTART:20251102T020000Z
TZOFFSETFROM:-0600
TZOFFSETTO:-0700
END:STANDARD
BEGIN:DAYLIGHT
DTSTART:20260308T020000Z
TZOFFSETFROM:-0700
TZOFFSETTO:-0600
END:DAYLIGHT
END:VTIMEZONE
BEGIN:VTIMEZONE
TZID:UTC
BEGIN:STANDARD
DTSTART:20250724T021034Z
TZOFFSETFROM:+0000
TZOFFSETTO:+0000
END:STANDARD
END:VTIMEZONE
BEGIN:VEVENT
UID:75-36
DTSTAMP:20260420T021034Z
SUMMARY:LifeWave Bootcamp – Dallas\, TX
LOCATION:
ORGANIZER;CN=admin:MAILTO:jbrophy@lifewave.com
DTSTART;TZID=America/Denver;VALUE=DATE:20260417
DTEND;TZID=America/Denver;VALUE=DATE:20260419
X-ALT-DESC;FMTTYPE=TEXT/HTML:LifeWave Dallas Bootcamp The LifeWave Dallas B
 ootcamp is an in-person training experience designed to support Brand Part
 ner success through focused education\, practical application\, and connec
 tion. Event Details Dates: April 18th Venue: Hyatt Regency Frisco - Dallas
 Address:2615 Preston RoadFrisco\, TX 75034 Registration Tickets are $85 pe
 r person and required for entry. 👉 Register Now What to&amp;hellip\;
CATEGORIES:NAM
URL;VALUE=URI:https://marketing.lifewave.com/mc-events/lifewave-bootcamp-da
 llas-tx/
METHOD:PUBLISH
END:VEVENT
END:VCALENDAR