BEGIN:VCALENDAR
VERSION:2.0
PRODID:spatie/icalendar-generator
DESCRIPTION:Events from LifeWave Events
X-WR-CALDESC:Events from LifeWave Events
REFRESH-INTERVAL;VALUE=DURATION:PT1440M
X-PUBLISHED-TTL:PT1440M
BEGIN:VTIMEZONE
TZID:America/Denver
BEGIN:STANDARD
DTSTART:20251102T020000Z
TZOFFSETFROM:-0600
TZOFFSETTO:-0700
END:STANDARD
BEGIN:DAYLIGHT
DTSTART:20260308T020000Z
TZOFFSETFROM:-0700
TZOFFSETTO:-0600
END:DAYLIGHT
BEGIN:STANDARD
DTSTART:20261101T020000Z
TZOFFSETFROM:-0600
TZOFFSETTO:-0700
END:STANDARD
END:VTIMEZONE
BEGIN:VTIMEZONE
TZID:UTC
BEGIN:STANDARD
DTSTART:20250724T144441Z
TZOFFSETFROM:+0000
TZOFFSETTO:+0000
END:STANDARD
END:VTIMEZONE
BEGIN:VEVENT
UID:81-11
DTSTAMP:20260420T144441Z
SUMMARY:Florence Presidential Travel Incentive – June 2026
LOCATION:
ORGANIZER;CN=admin:MAILTO:jbrophy@lifewave.com
DTSTART;TZID=America/Denver;VALUE=DATE:20260603
DTEND;TZID=America/Denver;VALUE=DATE:20260611
X-ALT-DESC;FMTTYPE=TEXT/HTML:Overview Experience the elegance\, culture\, a
 nd beauty of Italy with the Florence Presidential Travel Incentive\, an ex
 clusive reward created for LifeWave’s top-achieving Brand Partners. From
  the historic streets of Florence to the breathtaking Italian Riviera\, th
 is curated journey blends world-class accommodations\, unforgettable exper
 iences\, and time spent alongside LifeWave leadership and fellow top perfo
 rmers. Event Details&amp;hellip\;
CATEGORIES:EMEA
URL;VALUE=URI:https://marketing.lifewave.com/mc-events/florence-presidentia
 l-travel-incentive-june-2026/
METHOD:PUBLISH
END:VEVENT
END:VCALENDAR