BEGIN:VCALENDAR
VERSION:2.0
PRODID:spatie/icalendar-generator
DESCRIPTION:Events from LifeWave Events
X-WR-CALDESC:Events from LifeWave Events
REFRESH-INTERVAL;VALUE=DURATION:PT1440M
X-PUBLISHED-TTL:PT1440M
BEGIN:VTIMEZONE
TZID:America/Denver
BEGIN:STANDARD
DTSTART:20251102T020000Z
TZOFFSETFROM:-0600
TZOFFSETTO:-0700
END:STANDARD
BEGIN:DAYLIGHT
DTSTART:20260308T020000Z
TZOFFSETFROM:-0700
TZOFFSETTO:-0600
END:DAYLIGHT
BEGIN:STANDARD
DTSTART:20261101T020000Z
TZOFFSETFROM:-0600
TZOFFSETTO:-0700
END:STANDARD
END:VTIMEZONE
BEGIN:VTIMEZONE
TZID:UTC
BEGIN:STANDARD
DTSTART:20250724T193245Z
TZOFFSETFROM:+0000
TZOFFSETTO:+0000
END:STANDARD
END:VTIMEZONE
BEGIN:VEVENT
UID:80-42
DTSTAMP:20260420T193245Z
SUMMARY:LIGHT UP - LifeWave Congress 2026
LOCATION:
ORGANIZER;CN=admin:MAILTO:jbrophy@lifewave.com
DTSTART;TZID=America/Denver:20260612T090000
DTEND;TZID=America/Denver:20260613T100000
X-ALT-DESC;FMTTYPE=TEXT/HTML:  Light Up – LifeWave Congress 2026 is wher
 e Europe\, the Middle East\, and Africa come together for two high-energy 
 days of leadership\, recognition\, and real business momentum. Why you wan
 t to be there • Hear directly from LifeWave executives and top community
  leaders• Get practical strategies you can use immediately with your tea
 m• Celebrate&amp;hellip\;
CATEGORIES:EMEA
URL;VALUE=URI:https://marketing.lifewave.com/mc-events/light-up-lifewave-co
 ngress-2026/
METHOD:PUBLISH
END:VEVENT
END:VCALENDAR