BEGIN:VCALENDAR
VERSION:2.0
PRODID:spatie/icalendar-generator
DESCRIPTION:Events from LifeWave Events
X-WR-CALDESC:Events from LifeWave Events
REFRESH-INTERVAL;VALUE=DURATION:PT1440M
X-PUBLISHED-TTL:PT1440M
BEGIN:VTIMEZONE
TZID:America/Denver
BEGIN:STANDARD
DTSTART:20251102T020000Z
TZOFFSETFROM:-0600
TZOFFSETTO:-0700
END:STANDARD
BEGIN:DAYLIGHT
DTSTART:20260308T020000Z
TZOFFSETFROM:-0700
TZOFFSETTO:-0600
END:DAYLIGHT
END:VTIMEZONE
BEGIN:VTIMEZONE
TZID:UTC
BEGIN:STANDARD
DTSTART:20250728T092621Z
TZOFFSETFROM:+0000
TZOFFSETTO:+0000
END:STANDARD
END:VTIMEZONE
BEGIN:VEVENT
UID:72-38
DTSTAMP:20260424T092621Z
SUMMARY:Discover LifeWave Event– FREE Admission
LOCATION:
ORGANIZER;CN=admin:MAILTO:jbrophy@lifewave.com
DTSTART;TZID=America/Denver;VALUE=DATE:20260306
DTEND;TZID=America/Denver;VALUE=DATE:20260307
X-ALT-DESC;FMTTYPE=TEXT/HTML:Discover LifeWave Event – FREE Admission We 
 encourage you to bring guests to introduce the product technology that has
  LifeWave at the forefront of the health and wellness industry. Anyone enr
 olls as a Brand Partner during the event will receive a complimentary tick
 et to attend LifeWave Bootcamp the following day. Click here to learn more
 &amp;hellip\;
CATEGORIES:NAM
URL;VALUE=URI:https://marketing.lifewave.com/mc-events/discover-lifewave-ev
 ent-free-admission/
METHOD:PUBLISH
END:VEVENT
END:VCALENDAR