BEGIN:VCALENDAR
VERSION:2.0
PRODID:spatie/icalendar-generator
DESCRIPTION:Events from LifeWave Events
X-WR-CALDESC:Events from LifeWave Events
REFRESH-INTERVAL;VALUE=DURATION:PT1440M
X-PUBLISHED-TTL:PT1440M
BEGIN:VTIMEZONE
TZID:America/Denver
BEGIN:STANDARD
DTSTART:20251102T020000Z
TZOFFSETFROM:-0600
TZOFFSETTO:-0700
END:STANDARD
BEGIN:DAYLIGHT
DTSTART:20260308T020000Z
TZOFFSETFROM:-0700
TZOFFSETTO:-0600
END:DAYLIGHT
END:VTIMEZONE
BEGIN:VTIMEZONE
TZID:UTC
BEGIN:STANDARD
DTSTART:20250726T165711Z
TZOFFSETFROM:+0000
TZOFFSETTO:+0000
END:STANDARD
END:VTIMEZONE
BEGIN:VEVENT
UID:61-33
DTSTAMP:20260422T165711Z
SUMMARY:LifeWave Canada Roadshow
LOCATION:
ORGANIZER;CN=admin:MAILTO:jbrophy@lifewave.com
DTSTART;TZID=America/Denver:20260304T190000
DTEND;TZID=America/Denver:20260304T213000
X-ALT-DESC;FMTTYPE=TEXT/HTML:Additional Roadshow Events During LifeWave Boo
 tcamp Week While in Alberta for LifeWave Bootcamp\, our NAM sales team wil
 l be hosting Roadshow events throughout Canada. These Roadshow events are 
 in-person training experiences designed to support Brand Partners success\
 , are free to attend\, and present a valuable opportunity to elevate your 
 LifeWave business. Toronto\, Ontario – Wednesday\,&amp;hellip\;
CATEGORIES:NAM
URL;VALUE=URI:https://marketing.lifewave.com/mc-events/lifewave-canada-road
 show/
METHOD:PUBLISH
END:VEVENT
END:VCALENDAR