BEGIN:VCALENDAR
VERSION:2.0
PRODID:spatie/icalendar-generator
DESCRIPTION:Events from LifeWave Events
X-WR-CALDESC:Events from LifeWave Events
REFRESH-INTERVAL;VALUE=DURATION:PT1440M
X-PUBLISHED-TTL:PT1440M
BEGIN:VTIMEZONE
TZID:America/Denver
BEGIN:STANDARD
DTSTART:20251102T020000Z
TZOFFSETFROM:-0600
TZOFFSETTO:-0700
END:STANDARD
BEGIN:DAYLIGHT
DTSTART:20260308T020000Z
TZOFFSETFROM:-0700
TZOFFSETTO:-0600
END:DAYLIGHT
BEGIN:STANDARD
DTSTART:20261101T020000Z
TZOFFSETFROM:-0600
TZOFFSETTO:-0700
END:STANDARD
END:VTIMEZONE
BEGIN:VTIMEZONE
TZID:UTC
BEGIN:STANDARD
DTSTART:20250724T130718Z
TZOFFSETFROM:+0000
TZOFFSETTO:+0000
END:STANDARD
END:VTIMEZONE
BEGIN:VEVENT
UID:116-62
DTSTAMP:20260420T130718Z
SUMMARY:Presidential and Executive Webinar - Session Two
LOCATION:
ORGANIZER;CN=admin:MAILTO:jbrophy@lifewave.com
DTSTART;TZID=America/Denver:20260528T180000
DTEND;TZID=America/Denver:20260528T190000
X-ALT-DESC;FMTTYPE=TEXT/HTML:Join us for a webinar about updates and recogn
 ition from across the field. Supported languages: Japanese\, Mandarin\, Ko
 rean\, and Spanish Speakers: Founder and CEO of LifeWave David Schmidt Pre
 sident of LifeWave Meredith Berkich Regional Vice President of Sales\, Nor
 th America Janine Weber President of APAC (Asia Pacific) Dr. Edward Choo P
 resident of EMEA (Europe\, Middle&amp;hellip\;
CATEGORIES:NAM
URL;VALUE=URI:https://marketing.lifewave.com/mc-events/presidential-and-exe
 cutive-webinar-session-two/
METHOD:PUBLISH
END:VEVENT
END:VCALENDAR