BEGIN:VCALENDAR
VERSION:2.0
PRODID:spatie/icalendar-generator
DESCRIPTION:Events from LifeWave Events
X-WR-CALDESC:Events from LifeWave Events
REFRESH-INTERVAL;VALUE=DURATION:PT1440M
X-PUBLISHED-TTL:PT1440M
BEGIN:VTIMEZONE
TZID:America/Denver
BEGIN:STANDARD
DTSTART:20251102T020000Z
TZOFFSETFROM:-0600
TZOFFSETTO:-0700
END:STANDARD
BEGIN:DAYLIGHT
DTSTART:20260308T020000Z
TZOFFSETFROM:-0700
TZOFFSETTO:-0600
END:DAYLIGHT
BEGIN:STANDARD
DTSTART:20261101T020000Z
TZOFFSETFROM:-0600
TZOFFSETTO:-0700
END:STANDARD
END:VTIMEZONE
BEGIN:VTIMEZONE
TZID:UTC
BEGIN:STANDARD
DTSTART:20250724T084030Z
TZOFFSETFROM:+0000
TZOFFSETTO:+0000
END:STANDARD
END:VTIMEZONE
BEGIN:VEVENT
UID:114-60
DTSTAMP:20260420T084030Z
SUMMARY:Business Connect Webinar — Session One
LOCATION:
ORGANIZER;CN=admin:MAILTO:jbrophy@lifewave.com
DTSTART;TZID=America/Denver:20260513T110000
DTEND;TZID=America/Denver:20260514T000000
X-ALT-DESC;FMTTYPE=TEXT/HTML:Join our Business Business Connect Webinar thi
 s Wednesday to gain practical\, proven insights that can help you confiden
 tly share and sell LifeWave products. Learn what’s working right now fro
 m experienced leaders and walk away with strategies you can use immediatel
 y to grow your business. May 11 | 11 a.m.
CATEGORIES:NAM
URL;VALUE=URI:https://marketing.lifewave.com/mc-events/business-connect-web
 inar-session-one-4/
METHOD:PUBLISH
END:VEVENT
END:VCALENDAR