BEGIN:VCALENDAR
VERSION:2.0
PRODID:spatie/icalendar-generator
DESCRIPTION:Events from LifeWave Events
X-WR-CALDESC:Events from LifeWave Events
REFRESH-INTERVAL;VALUE=DURATION:PT1440M
X-PUBLISHED-TTL:PT1440M
BEGIN:VTIMEZONE
TZID:America/Denver
BEGIN:STANDARD
DTSTART:20251102T020000Z
TZOFFSETFROM:-0600
TZOFFSETTO:-0700
END:STANDARD
BEGIN:DAYLIGHT
DTSTART:20260308T020000Z
TZOFFSETFROM:-0700
TZOFFSETTO:-0600
END:DAYLIGHT
END:VTIMEZONE
BEGIN:VTIMEZONE
TZID:UTC
BEGIN:STANDARD
DTSTART:20250724T051254Z
TZOFFSETFROM:+0000
TZOFFSETTO:+0000
END:STANDARD
END:VTIMEZONE
BEGIN:VEVENT
UID:110-27
DTSTAMP:20260420T051254Z
SUMMARY:Business Connect Webinar — Session Two
LOCATION:
ORGANIZER;CN=admin:MAILTO:jbrophy@lifewave.com
DTSTART;TZID=America/Denver:20260415T180000
DTEND;TZID=America/Denver:20260415T190000
X-ALT-DESC;FMTTYPE=TEXT/HTML:Join our Business Connect Webinar this Wednesd
 ay to gain practical\, proven insights that can help you confidently share
  and sell LifeWave products. Learn what’s working right now from experie
 nced leaders and walk away with strategies you can use immediately to grow
  your business.
CATEGORIES:NAM
URL;VALUE=URI:https://marketing.lifewave.com/mc-events/business-connect-web
 inar-session-two-3/
METHOD:PUBLISH
END:VEVENT
END:VCALENDAR